 BEGIN:VCALENDAR
VERSION:2.0
PRODID:-//wp-events-plugin.com//7.2.3.1//EN
BEGIN:VEVENT
UID:35-43@storringtonconservation.org.uk
DTSTART:20151107T100000Z
DTEND:20151107T150000Z
DTSTAMP:20151207T132122Z
URL:https://www.storringtonconservation.org.uk/programme/work-day-4/
SUMMARY:Work Day
DESCRIPTION:Today we will be undertaking woodland management aand restorati
 on in this neglected Victorian pleasure garden. Meet in wooded area above 
 waterfall.  Refreshmants tools and gloves are all provided. Why not come 
 along and leand a hand!!! All welcome.
LOCATION:Fryern Dell\, Off Dean Way \, Storrington\, West Sussex\, United K
 ingdom
GEO:50.924610;-0.462695
X-APPLE-STRUCTURED-LOCATION;VALUE=URI;X-ADDRESS=Off Dean Way \, Storrington
 \, West Sussex\, United Kingdom;X-APPLE-RADIUS=100;X-TITLE=Fryern Dell:geo
 :50.924610,-0.462695
END:VEVENT
END:VCALENDAR