 BEGIN:VCALENDAR
VERSION:2.0
PRODID:-//wp-events-plugin.com//7.2.3.1//EN
BEGIN:VEVENT
UID:0-319@storringtonconservation.org.uk
DTSTART;TZID=Europe/London:20260212T140000
DTEND;TZID=Europe/London:20260212T160000
DTSTAMP:20260207T085731Z
URL:https://www.storringtonconservation.org.uk/programme/foxmead-pond-5/
SUMMARY:Foxmead Pond
DESCRIPTION:Rearranged from last Saturday.\nWe have been asked to return to
  Foxmead Court to do our usual clearance of their pond. For those who have
  not been there before\, the Conservation Society was responsible for savi
 ng the pond about 30 years ago by lining it with clay. Despite the fact th
 at the site has been developed into retirement apartments\, the pond remai
 ns. Since the apartments were built\, we have been returning to enhance it
 s wildlife value and maintain it as an attractive feature for the resident
 s to continue to enjoy. \nWellies are always helpful here.\nThere are only
  3 visitors parking bays at the car park at the rear of the building via M
 eadowside. So please try to walk if possible\, or if the car park is full\
 , there is usually loads of road space on Meadowside itself.\nWhat3Words(w
 3w): firebird.rush.covenants – click (here)\nTools and refreshments are 
 provided.\n
LOCATION:Foxmead Court\, Meadowside\, Storrington\, RH20 4FN\, United Kingd
 om
GEO:50.915897;-0.451061
X-APPLE-STRUCTURED-LOCATION;VALUE=URI;X-ADDRESS=Meadowside\, Storrington\, 
 RH20 4FN\, United Kingdom;X-APPLE-RADIUS=100;X-TITLE=Foxmead Court:geo:50.
 915897,-0.451061
END:VEVENT
BEGIN:VTIMEZONE
TZID:Europe/London
X-LIC-LOCATION:Europe/London
BEGIN:STANDARD
DTSTART:20251026T010000
TZOFFSETFROM:+0100
TZOFFSETTO:+0000
TZNAME:GMT
END:STANDARD
END:VTIMEZONE
END:VCALENDAR