 BEGIN:VCALENDAR
VERSION:2.0
PRODID:-//wp-events-plugin.com//7.2.3.1//EN
BEGIN:VEVENT
UID:35-6@storringtonconservation.org.uk
DTSTART:20161022T140000Z
DTEND:20161022T160000Z
DTSTAMP:20161008T105349Z
URL:https://www.storringtonconservation.org.uk/programme/agm-and-talk-the-
 rspbs-work-at-wiggonholt-common/
SUMMARY:AGM and Talk - Storrington's Oil Well
DESCRIPTION:This afternoons meeting will feature our AGM (this normally tak
 es just a few minutes) Followed by a talk presented by a representative fr
 om IGas owners of our own local oil well.   The talk will be followed by 
 tea and homemade cake.
LOCATION:Storrington Village Hall\, 59\, West Street\, Storrington \,  RH20
  4DZ\, United Kingdom
GEO:50.918024;-0.456363
X-APPLE-STRUCTURED-LOCATION;VALUE=URI;X-ADDRESS=59\, West Street\, Storring
 ton \,  RH20 4DZ\, United Kingdom;X-APPLE-RADIUS=100;X-TITLE=Storrington V
 illage Hall:geo:50.918024,-0.456363
END:VEVENT
END:VCALENDAR