 BEGIN:VCALENDAR
VERSION:2.0
PRODID:-//wp-events-plugin.com//7.2.3.1//EN
BEGIN:VEVENT
UID:0-310@storringtonconservation.org.uk
DTSTART:20261010T100000Z
DTEND:20261010T120000Z
DTSTAMP:20250923T120124Z
URL:https://www.storringtonconservation.org.uk/programme/a-mornings-work-a
 t-sullington-warren-4/
SUMMARY:A morning's work at Sullington Warren
DESCRIPTION:To help our fellow Storrington Conservation groups\, we have ar
 ranged a morning session at Sullington Warren. We will be helping them wit
 h their maintenance of the area. The plan is to work on the wet heath towa
 rds the Water Lane end of the Sullington Warren. The work could include\, 
 raking cut heather to diversify the age of the heather which can then supp
 ort different species\, creating some scrapes for reptiles and invertebrat
 es and clearing invasive scrub and burning it.\nParking at the top end of 
 the car park road of Trinity Methodist Church\, off Thakeham road\, opposi
 te the speed camera (B2139).\nWhat3Words(w3w): folders.templates.dentistry
  – click (here)\nTools and refreshments are provided.\nPLEASE NOTE THE 
 DATE AS THIS IS A WEEK LATER THAN OUR NORMAL SATURDAY WORK-PARTY\, SO IT T
 IES IN WITH THEIR WORK PARTY SESSSION.
LOCATION:Sullington Warren\, Water lane\, Storrington\, United Kingdom
X-APPLE-STRUCTURED-LOCATION;VALUE=URI;X-ADDRESS=Water lane\, Storrington\, 
 United Kingdom;X-APPLE-RADIUS=100;X-TITLE=Sullington Warren:geo:0,0
END:VEVENT
END:VCALENDAR